BEGIN:VCALENDAR
VERSION:2.0
PRODID:-//https://calenda-formation.labocleo.org
X-WR-CALNAME:Calenda
X-WR-TIMEZONE:Europe/Paris
CALSCALE:GREGORIAN
X-WR-CALDESC:O calendário de letras e de ciências sociais e humanas
METHOD:PUBLISH
BEGIN:VEVENT
DTSTART;VALUE=DATE:20180515
DTEND;VALUE=DATE:20180516
UID:433625-20180515@calenda.revues.org
SUMMARY:Documenter les « expériences du choc » de la migration
URL:https://calenda-formation.labocleo.org/433625
DESCRIPTION:Ce colloque international clôture le programme de rencontres scientifiques « Représenter l’expérience de la migration ». Après l’étude de ces sources que sont les récits et les images produits par les exilés\, la question des représentations a été abo… @plus_info https://calenda-formation.labocleo.org/433625
LOCATION:Poitiers
END:VEVENT
END:VCALENDAR
