BEGIN:VCALENDAR
VERSION:2.0
PRODID:-//https://calenda-formation.labocleo.org
X-WR-CALNAME:Calenda
X-WR-TIMEZONE:Europe/Paris
CALSCALE:GREGORIAN
X-WR-CALDESC:Le calendrier des lettres et sciences humaines et sociales
METHOD:PUBLISH
BEGIN:VEVENT
DTSTART;VALUE=DATE:20180409
DTEND;VALUE=DATE:20180410
UID:433743-20180409@calenda.revues.org
SUMMARY:Power and social exclusion
URL:https://calenda-formation.labocleo.org/433743
DESCRIPTION:Ce numéro thématique de Language\, Discourse & Society se focalise sur les exclusions sociales et les enjeux de pouvoir associés. L'exclusion sociale peut être appréhendée comme un ensemble d'actions plus ou moins concertées\, situées dans le temps et … Más informaciones https://calenda-formation.labocleo.org/433743
LOCATION:
END:VEVENT
END:VCALENDAR
