BEGIN:VCALENDAR
VERSION:2.0
PRODID:-//https://calenda-formation.labocleo.org
X-WR-CALNAME:Calenda
X-WR-TIMEZONE:Europe/Paris
CALSCALE:GREGORIAN
X-WR-CALDESC:The calendar for arts, humanities and social sciences
METHOD:PUBLISH
BEGIN:VEVENT
DTSTART;VALUE=DATE:20180323
DTEND;VALUE=DATE:20180324
UID:434099-20180323@calenda.revues.org
SUMMARY:Between ecstasy and inspiration: wine and music in the visual arts
URL:https://calenda-formation.labocleo.org/434099
DESCRIPTION:Bacchus (Dionysos pour les Grecs) est le Dieu de l’ivresse\, des plaisirs sensuels\, de la fertilité comme de l’inspiration créatrice. Il est associé à l’amour\, à la danse et à la musique. Ce symbolisme multiforme est au cœur de nombreuses œuvres d’art… @plus_info https://calenda-formation.labocleo.org/434099
LOCATION:Bordeaux
END:VEVENT
END:VCALENDAR
