BEGIN:VCALENDAR
VERSION:2.0
PRODID:-//https://calenda-formation.labocleo.org
X-WR-CALNAME:Calenda
X-WR-TIMEZONE:Europe/Paris
CALSCALE:GREGORIAN
X-WR-CALDESC:The calendar for arts, humanities and social sciences
METHOD:PUBLISH
BEGIN:VEVENT
DTSTART;VALUE=DATE:20180330
DTEND;VALUE=DATE:20180331
UID:434212-20180330@calenda.revues.org
SUMMARY:"Transnum" - thinking the digital as transformation
URL:https://calenda-formation.labocleo.org/434212
DESCRIPTION:« Révolution numérique »\, « digitalisation du social »\, « plateformisation de l’économie »\, avènement des « humanités numériques »… nombreuses sont les désignations d’un phénomène perçu comme une rupture : l’introduction du « numérique » dans le quot… @plus_info https://calenda-formation.labocleo.org/434212
LOCATION:Neuilly-sur-Seine
END:VEVENT
END:VCALENDAR
