BEGIN:VCALENDAR
VERSION:2.0
PRODID:-//https://calenda-formation.labocleo.org
X-WR-CALNAME:Calenda
X-WR-TIMEZONE:Europe/Paris
CALSCALE:GREGORIAN
X-WR-CALDESC:O calendário de letras e de ciências sociais e humanas
METHOD:PUBLISH
BEGIN:VEVENT
DTSTART;VALUE=DATE:20180630
DTEND;VALUE=DATE:20180701
UID:434231-20180630@calenda.revues.org
SUMMARY:Le fait divers\, caméléon à découvert
URL:https://calenda-formation.labocleo.org/434231
DESCRIPTION:Le fait divers journalistique est très malléable et sa propension à passer si facilement d’un média à un autre permet à Annik Dubied et Marc Lits de le catégoriser en tant que « genre transmédiatique ». Passage d’un média à un autre\, mais aussi\, parf… @plus_info https://calenda-formation.labocleo.org/434231
LOCATION:
END:VEVENT
END:VCALENDAR
