BEGIN:VCALENDAR
VERSION:2.0
PRODID:-//https://calenda-formation.labocleo.org
X-WR-CALNAME:Calenda
X-WR-TIMEZONE:Europe/Paris
CALSCALE:GREGORIAN
X-WR-CALDESC:The calendar for arts, humanities and social sciences
METHOD:PUBLISH
BEGIN:VEVENT
DTSTART;VALUE=DATE:20180405
DTEND;VALUE=DATE:20180406
UID:434282-20180405@calenda.revues.org
SUMMARY:Monetary discoveries in funerary contexts 
URL:https://calenda-formation.labocleo.org/434282
DESCRIPTION:Cette journée sera consacrée à la prise en compte des données numismatiques au sein du discours propre à l'archéologie funéraire\, à travers une série d'exemples récents issus de fouilles menées en Gaule du Nord. … @plus_info https://calenda-formation.labocleo.org/434282
LOCATION:Villeneuve-d'Ascq
END:VEVENT
END:VCALENDAR
