BEGIN:VCALENDAR
VERSION:2.0
PRODID:-//https://calenda-formation.labocleo.org
X-WR-CALNAME:Calenda
X-WR-TIMEZONE:Europe/Paris
CALSCALE:GREGORIAN
X-WR-CALDESC:The calendar for arts, humanities and social sciences
METHOD:PUBLISH
BEGIN:VEVENT
DTSTART;VALUE=DATE:20180530
DTEND;VALUE=DATE:20180531
UID:434562-20180530@calenda.revues.org
SUMMARY:Maritime Africa: realities and perspectives
URL:https://calenda-formation.labocleo.org/434562
DESCRIPTION:Suite au numéro 19 consacré à la vocation africaine du Maroc « Politiques et stratégies » et au numéro 20 consacré aus aménagements et développements des territoires en Afrique\, la revue Espace Géographique et Société Marocaine lance un appel à contr… @plus_info https://calenda-formation.labocleo.org/434562
LOCATION:Casablanca
END:VEVENT
END:VCALENDAR
