BEGIN:VCALENDAR
VERSION:2.0
PRODID:-//https://calenda-formation.labocleo.org
X-WR-CALNAME:Calenda
X-WR-TIMEZONE:Europe/Paris
CALSCALE:GREGORIAN
X-WR-CALDESC:The calendar for arts, humanities and social sciences
METHOD:PUBLISH
BEGIN:VEVENT
DTSTART;VALUE=DATE:20180615
DTEND;VALUE=DATE:20180616
UID:434718-20180615@calenda.revues.org
SUMMARY:Language and knowledge. Multidisciplinary declensions in French
URL:https://calenda-formation.labocleo.org/434718
DESCRIPTION:Si le français ne saurait à plusieurs titres endosser le rôle et le statut de lingua franca\, il n’en demeure pas moins un atout et un moteur\, parfois surprenants\, pour la pensée\, la création\, l’interprétation\, la recherche d’actualité et l’approche d… @plus_info https://calenda-formation.labocleo.org/434718
LOCATION:Faro
END:VEVENT
END:VCALENDAR
