BEGIN:VCALENDAR
VERSION:2.0
PRODID:-//https://calenda-formation.labocleo.org
X-WR-CALNAME:Calenda
X-WR-TIMEZONE:Europe/Paris
CALSCALE:GREGORIAN
X-WR-CALDESC:Le calendrier des lettres et sciences humaines et sociales
METHOD:PUBLISH
BEGIN:VEVENT
DTSTART;VALUE=DATE:20180511
DTEND;VALUE=DATE:20180512
UID:434947-20180511@calenda.revues.org
SUMMARY:L’armée dans la ville 
URL:https://calenda-formation.labocleo.org/434947
DESCRIPTION:À l’articulation de l’histoire de l’architecture et des cultures urbaines civiles et militaires\, ce quatrième colloque international du programme « Patrimoine militaire » initié en 2012 vise à renforcer les recherches sur la ville moderne et contempo… @plus_info https://calenda-formation.labocleo.org/434947
LOCATION:Le Mirail
END:VEVENT
END:VCALENDAR
