BEGIN:VCALENDAR
VERSION:2.0
PRODID:-//https://calenda-formation.labocleo.org
X-WR-CALNAME:Calenda
X-WR-TIMEZONE:Europe/Paris
CALSCALE:GREGORIAN
X-WR-CALDESC:The calendar for arts, humanities and social sciences
METHOD:PUBLISH
BEGIN:VEVENT
DTSTART;VALUE=DATE:20180302
DTEND;VALUE=DATE:20180303
UID:435626-20180302@calenda.revues.org
SUMMARY:Public Space Democracy 
URL:https://calenda-formation.labocleo.org/435626
DESCRIPTION:The public space is not an empty neutral place\, nor it is devoid of power relations. It is deeply imbued with regulation of social space\, layers of memory\, offering a scene for present day politics\, but also an historical archive with different tempo… @plus_info https://calenda-formation.labocleo.org/435626
LOCATION:Paris
END:VEVENT
END:VCALENDAR
