BEGIN:VCALENDAR
VERSION:2.0
PRODID:-//https://calenda-formation.labocleo.org
X-WR-CALNAME:Calenda
X-WR-TIMEZONE:Europe/Paris
CALSCALE:GREGORIAN
X-WR-CALDESC:Le calendrier des lettres et sciences humaines et sociales
METHOD:PUBLISH
BEGIN:VEVENT
DTSTART;VALUE=DATE:20180415
DTEND;VALUE=DATE:20180416
UID:435898-20180415@calenda.revues.org
SUMMARY:La régulation des recours juridictionnels et les exigences du procès équitable
URL:https://calenda-formation.labocleo.org/435898
DESCRIPTION:L’objectif de cette XIème Journée d’études est d’analyser le contenu des réformes qui ont été entreprises par les Etats à l’aune des principes du procès équitable. Comme chaque année\, l’UMR DICE organise une journée d’études de nature à permettre aux… @plus_info https://calenda-formation.labocleo.org/435898
LOCATION:Toulon
END:VEVENT
END:VCALENDAR
