BEGIN:VCALENDAR
VERSION:2.0
PRODID:-//https://calenda-formation.labocleo.org
X-WR-CALNAME:Calenda
X-WR-TIMEZONE:Europe/Paris
CALSCALE:GREGORIAN
X-WR-CALDESC:The calendar for arts, humanities and social sciences
METHOD:PUBLISH
BEGIN:VEVENT
DTSTART;VALUE=DATE:20180415
DTEND;VALUE=DATE:20180416
UID:436004-20180415@calenda.revues.org
SUMMARY:Academic freedom in historical perspective
URL:https://calenda-formation.labocleo.org/436004
DESCRIPTION:Academic freedom is a central idea in modern scholarship. Even if a precise definition of it is difficult to state\, it can be understood as the freedom for members of academia to teach and research without being restrained by political or social surv… @plus_info https://calenda-formation.labocleo.org/436004
LOCATION:Budapest
END:VEVENT
END:VCALENDAR
