BEGIN:VCALENDAR
VERSION:2.0
PRODID:-//https://calenda-formation.labocleo.org
X-WR-CALNAME:Calenda
X-WR-TIMEZONE:Europe/Paris
CALSCALE:GREGORIAN
X-WR-CALDESC:The calendar for arts, humanities and social sciences
METHOD:PUBLISH
BEGIN:VEVENT
DTSTART;VALUE=DATE:20181001
DTEND;VALUE=DATE:20181002
UID:436348-20181001@calenda.revues.org
SUMMARY:The Lexicon 
URL:https://calenda-formation.labocleo.org/436348
DESCRIPTION:Dans l’enseignement supérieur\, le lexique académique ou de spécialité est souvent considéré comme essentiel à l’apprentissage d’une langue étrangère. L’apprentissage du vocabulaire en langue étrangère reste une redoutable tâche jalonnée d’écueils et … @plus_info https://calenda-formation.labocleo.org/436348
LOCATION:
END:VEVENT
END:VCALENDAR
