BEGIN:VCALENDAR
VERSION:2.0
PRODID:-//https://calenda-formation.labocleo.org
X-WR-CALNAME:Calenda
X-WR-TIMEZONE:Europe/Paris
CALSCALE:GREGORIAN
X-WR-CALDESC:Le calendrier des lettres et sciences humaines et sociales
METHOD:PUBLISH
BEGIN:VEVENT
DTSTART;VALUE=DATE:20180312
DTEND;VALUE=DATE:20180313
UID:436371-20180312@calenda.revues.org
SUMMARY:Conception et réalisation d'un système d’informations géographiques des données archéologiques du fonds d’archives de Camille de la Croix
URL:https://calenda-formation.labocleo.org/436371
DESCRIPTION:Le ou la post-doctorant·e aura pour mission de concevoir et réaliser un système d’informations géographiques analysant et exploitant les données archéologiques du fonds d’archives de Camille de la Croix sur Poitiers en coordination avec le service Pa… Más informaciones https://calenda-formation.labocleo.org/436371
LOCATION:Poitiers
END:VEVENT
END:VCALENDAR
