BEGIN:VCALENDAR
VERSION:2.0
PRODID:-//https://calenda-formation.labocleo.org
X-WR-CALNAME:Calenda
X-WR-TIMEZONE:Europe/Paris
CALSCALE:GREGORIAN
X-WR-CALDESC:The calendar for arts, humanities and social sciences
METHOD:PUBLISH
BEGIN:VEVENT
DTSTART;VALUE=DATE:20180501
DTEND;VALUE=DATE:20180502
UID:436457-20180501@calenda.revues.org
SUMMARY:Travellers and travel. Cultural and linguistic incursions
URL:https://calenda-formation.labocleo.org/436457
DESCRIPTION:La VIIe édition du colloque international Communication et culture dans la Romania européenne (CICCRE) propose comme thème de réflexion et de débat le voyageur et ses voyages\, réels ou symboliques\, et la manière dont ils se reflètent dans les littéra… @plus_info https://calenda-formation.labocleo.org/436457
LOCATION:Timişoara
END:VEVENT
END:VCALENDAR
