BEGIN:VCALENDAR
VERSION:2.0
PRODID:-//https://calenda-formation.labocleo.org
X-WR-CALNAME:Calenda
X-WR-TIMEZONE:Europe/Paris
CALSCALE:GREGORIAN
X-WR-CALDESC:Le calendrier des lettres et sciences humaines et sociales
METHOD:PUBLISH
BEGIN:VEVENT
DTSTART;VALUE=DATE:20180324
DTEND;VALUE=DATE:20180325
UID:437000-20180324@calenda.revues.org
SUMMARY:Horizons courtisans. Le retour d'exil
URL:https://calenda-formation.labocleo.org/437000
DESCRIPTION:De Bussy-Rabutin à Lauzun\, le règne de Louis XIV a été marqué par des disgrâces spectaculaires et des retours inattendus de faveur: la politique de la grâce recoupe des stratégies sociales et littéraires. … @plus_info https://calenda-formation.labocleo.org/437000
LOCATION:Versailles
END:VEVENT
END:VCALENDAR
