BEGIN:VCALENDAR
VERSION:2.0
PRODID:-//https://calenda-formation.labocleo.org
X-WR-CALNAME:Calenda
X-WR-TIMEZONE:Europe/Paris
CALSCALE:GREGORIAN
X-WR-CALDESC:The calendar for arts, humanities and social sciences
METHOD:PUBLISH
BEGIN:VEVENT
DTSTART;VALUE=DATE:20180317
DTEND;VALUE=DATE:20180318
UID:437065-20180317@calenda.revues.org
SUMMARY:Human language and animal communication
URL:https://calenda-formation.labocleo.org/437065
DESCRIPTION:L’évolution du langage humain est un sujet complexe qui implique de nombreuses disciplines : linguistique\, biologie\, physique\, simulations informatiques\, psychologie\, cognition et aspects sociaux. La comparaison de la parole et du langage humain avec… @plus_info https://calenda-formation.labocleo.org/437065
LOCATION:Paris
END:VEVENT
END:VCALENDAR
