BEGIN:VCALENDAR
VERSION:2.0
PRODID:-//https://calenda-formation.labocleo.org
X-WR-CALNAME:Calenda
X-WR-TIMEZONE:Europe/Paris
CALSCALE:GREGORIAN
X-WR-CALDESC:Le calendrier des lettres et sciences humaines et sociales
METHOD:PUBLISH
BEGIN:VEVENT
DTSTART;VALUE=DATE:20180413
DTEND;VALUE=DATE:20180414
UID:437332-20180413@calenda.revues.org
SUMMARY:Street Art Europe
URL:https://calenda-formation.labocleo.org/437332
DESCRIPTION:Les œuvres de street art ont vocation à être in situ\, c’est-à-dire réalisées dans un endroit précis et un contexte bien déterminé\, pour cet endroit précis et par cet endroit précis. Certains artistes considèrent en effet que ce sont les lieux qui fon… Weitere Informationen https://calenda-formation.labocleo.org/437332
LOCATION:Nizza
END:VEVENT
END:VCALENDAR
