BEGIN:VCALENDAR
VERSION:2.0
PRODID:-//https://calenda-formation.labocleo.org
X-WR-CALNAME:Calenda
X-WR-TIMEZONE:Europe/Paris
CALSCALE:GREGORIAN
X-WR-CALDESC:Le calendrier des lettres et sciences humaines et sociales
METHOD:PUBLISH
BEGIN:VEVENT
DTSTART;VALUE=DATE:20180505
DTEND;VALUE=DATE:20180506
UID:437489-20180505@calenda.revues.org
SUMMARY:Terrains diffciles\, sujets sensibles. Faire de la recherche au Maghreb et au Moyen-Orient
URL:https://calenda-formation.labocleo.org/437489
DESCRIPTION:Les difficultés « du terrain » se trouvent de plus en plus au centre des préoccupations de la recherche en sciences sociales. Les cas extrêmes\, comme la guerre et le terrorisme\, annoncent même sa possible disparition. Mais se limiter à ces cas de fig… Más informaciones https://calenda-formation.labocleo.org/437489
LOCATION:Rabat
END:VEVENT
END:VCALENDAR
