BEGIN:VCALENDAR
VERSION:2.0
PRODID:-//https://calenda-formation.labocleo.org
X-WR-CALNAME:Calenda
X-WR-TIMEZONE:Europe/Paris
CALSCALE:GREGORIAN
X-WR-CALDESC:Le calendrier des lettres et sciences humaines et sociales
METHOD:PUBLISH
BEGIN:VEVENT
DTSTART;VALUE=DATE:20180429
DTEND;VALUE=DATE:20180430
UID:437758-20180429@calenda.revues.org
SUMMARY:Capital immatériel et création de richesses en Afrique et dans les Pays de la zone « Middle East and North Africa » (MENA) : Quel nouveau modèle de développement pour le Maroc ?
URL:https://calenda-formation.labocleo.org/437758
DESCRIPTION:De nos jours\, dans tous les domaines\, les forces motrices du développement se déplacent de la matière\, du gaz\, du pétrole ou de l’énergie vers le savoir et l’immatériel. Ainsi\, l’immatériel sous toutes ses formes joue un rôle capital dans le fonction… Más informaciones https://calenda-formation.labocleo.org/437758
LOCATION:El Jadida
END:VEVENT
END:VCALENDAR
