BEGIN:VCALENDAR
VERSION:2.0
PRODID:-//https://calenda-formation.labocleo.org
X-WR-CALNAME:Calenda
X-WR-TIMEZONE:Europe/Paris
CALSCALE:GREGORIAN
X-WR-CALDESC:Le calendrier des lettres et sciences humaines et sociales
METHOD:PUBLISH
BEGIN:VEVENT
DTSTART;VALUE=DATE:20180930
DTEND;VALUE=DATE:20181001
UID:437843-20180930@calenda.revues.org
SUMMARY:Identités et circulation des spectacles forains : musique\, théâtre\, danse\, acrobaties et marionnettes\, 1660-1830
URL:https://calenda-formation.labocleo.org/437843
DESCRIPTION:Le colloque a la volonté d’envisager les spectacles forains dans leur globalité et dans un contexte historique et géographique élargi. Il a pour objectif de s’interroger sur plusieurs aspects : peut-on dresser une typologie de ces spectacles ? Peut-o… @plus_info https://calenda-formation.labocleo.org/437843
LOCATION:Reims\, Charleville-Mézières
END:VEVENT
END:VCALENDAR
