BEGIN:VCALENDAR
VERSION:2.0
PRODID:-//https://calenda-formation.labocleo.org
X-WR-CALNAME:Calenda
X-WR-TIMEZONE:Europe/Paris
CALSCALE:GREGORIAN
X-WR-CALDESC:Le calendrier des lettres et sciences humaines et sociales
METHOD:PUBLISH
BEGIN:VEVENT
DTSTART;VALUE=DATE:20180915
DTEND;VALUE=DATE:20180916
UID:437902-20180915@calenda.revues.org
SUMMARY:Contre-cartographies dans les Amériques\, XVIe-XXIe siècle
URL:https://calenda-formation.labocleo.org/437902
DESCRIPTION:Quels enjeux se trouvent derrière les dynamiques contre-cartographiques dans le contexte des Amériques ? Dans quel contexte les logiques contre-cartographiques peuvent-elles se mettre en place ? Comment se créent-elles et de quelles impulsions émanen… Weitere Informationen https://calenda-formation.labocleo.org/437902
LOCATION:Limoges
END:VEVENT
END:VCALENDAR
