BEGIN:VCALENDAR
VERSION:2.0
PRODID:-//https://calenda-formation.labocleo.org
X-WR-CALNAME:Calenda
X-WR-TIMEZONE:Europe/Paris
CALSCALE:GREGORIAN
X-WR-CALDESC:The calendar for arts, humanities and social sciences
METHOD:PUBLISH
BEGIN:VEVENT
DTSTART;VALUE=DATE:20180917
DTEND;VALUE=DATE:20180918
UID:437926-20180917@calenda.revues.org
SUMMARY:Calls for projects - "Orphanage research" 2018
URL:https://calenda-formation.labocleo.org/437926
DESCRIPTION:Rarement pris en compte socialement\, méconnus statistiquement\, oubliés politiquement\, les orphelins sont invisibles dans nos sociétés contemporaines. Pourtant\, ils représentent en France 800 000 enfants\, adolescents et jeunes adultes\, âgés de moins d… @plus_info https://calenda-formation.labocleo.org/437926
LOCATION:
END:VEVENT
END:VCALENDAR
