BEGIN:VCALENDAR
VERSION:2.0
PRODID:-//https://calenda-formation.labocleo.org
X-WR-CALNAME:Calenda
X-WR-TIMEZONE:Europe/Paris
CALSCALE:GREGORIAN
X-WR-CALDESC:O calendário de letras e de ciências sociais e humanas
METHOD:PUBLISH
BEGIN:VEVENT
DTSTART;VALUE=DATE:20180413
DTEND;VALUE=DATE:20180414
UID:438331-20180413@calenda.revues.org
SUMMARY:Les sciences humaines et sociales et les enjeux de l’eau
URL:https://calenda-formation.labocleo.org/438331
DESCRIPTION:À l’instar de l’ensemble des politiques environnementales\, les politiques de l’eau nécessitent de croiser et d’articuler les dimensions techniques\, économiques et sociales. La prise en compte de ces différentes dimensions est indispensable pour en co… @plus_info https://calenda-formation.labocleo.org/438331
LOCATION:Paris
END:VEVENT
END:VCALENDAR
