BEGIN:VCALENDAR
VERSION:2.0
PRODID:-//https://calenda-formation.labocleo.org
X-WR-CALNAME:Calenda
X-WR-TIMEZONE:Europe/Paris
CALSCALE:GREGORIAN
X-WR-CALDESC:O calendário de letras e de ciências sociais e humanas
METHOD:PUBLISH
BEGIN:VEVENT
DTSTART;VALUE=DATE:20180930
DTEND;VALUE=DATE:20181001
UID:438473-20180930@calenda.revues.org
SUMMARY:Identités curiales et le mythe de Versailles en Europe
URL:https://calenda-formation.labocleo.org/438473
DESCRIPTION:Les cours « modernes » en Europe comportent des aspects institutionnels\, sociaux\, sociétaux\, culturels\, etc.\, concomitants de l’affirmation politique d’individualités émergeant\, en accord ou en conflits\, de collectivités exerçant solidairement le pou… @plus_info https://calenda-formation.labocleo.org/438473
LOCATION:Versalhes
END:VEVENT
END:VCALENDAR
