BEGIN:VCALENDAR
VERSION:2.0
PRODID:-//https://calenda-formation.labocleo.org
X-WR-CALNAME:Calenda
X-WR-TIMEZONE:Europe/Paris
CALSCALE:GREGORIAN
X-WR-CALDESC:The calendar for arts, humanities and social sciences
METHOD:PUBLISH
BEGIN:VEVENT
DTSTART;VALUE=DATE:20180430
DTEND;VALUE=DATE:20180501
UID:438490-20180430@calenda.revues.org
SUMMARY:Postdoctoral Fellowship : South Mediterranean – France
URL:https://calenda-formation.labocleo.org/438490
DESCRIPTION:The Fondation Maison des sciences de l’homme (FMSH) and the Mediterranean Universities Union (UNIMED) offer short-term fellowships of 3 months in France for young researchers native and resident from Algeria\, Egypt\, Jordan\, Lebanon\, Lybia\, Morocco\, P… @plus_info https://calenda-formation.labocleo.org/438490
LOCATION:Paris
END:VEVENT
END:VCALENDAR
