BEGIN:VCALENDAR
VERSION:2.0
PRODID:-//https://calenda-formation.labocleo.org
X-WR-CALNAME:Calenda
X-WR-TIMEZONE:Europe/Paris
CALSCALE:GREGORIAN
X-WR-CALDESC:Le calendrier des lettres et sciences humaines et sociales
METHOD:PUBLISH
BEGIN:VEVENT
DTSTART;VALUE=DATE:20180425
DTEND;VALUE=DATE:20180426
UID:438818-20180425@calenda.revues.org
SUMMARY:Perspectives sociales et théoriques sur la vérité\, la justice et la réconciliation dans les Amériques
URL:https://calenda-formation.labocleo.org/438818
DESCRIPTION:Le colloque a trois objectifs. Premièrement\, il s'agit de faire un état des débats concernant les politiques de vérité sur les crimes et les violations des droits humains commis. Deuxièmement\, il vise à paver la route à la production d'une analyse co… Weitere Informationen https://calenda-formation.labocleo.org/438818
LOCATION:Montreal
END:VEVENT
BEGIN:VEVENT
DTSTART;VALUE=DATE:20180426
DTEND;VALUE=DATE:20180427
UID:438818-20180426@calenda.revues.org
SUMMARY:Perspectives sociales et théoriques sur la vérité\, la justice et la réconciliation dans les Amériques
URL:https://calenda-formation.labocleo.org/438818
DESCRIPTION:Le colloque a trois objectifs. Premièrement\, il s'agit de faire un état des débats concernant les politiques de vérité sur les crimes et les violations des droits humains commis. Deuxièmement\, il vise à paver la route à la production d'une analyse co… Weitere Informationen https://calenda-formation.labocleo.org/438818
LOCATION:Montreal
END:VEVENT
END:VCALENDAR
