BEGIN:VCALENDAR
VERSION:2.0
PRODID:-//https://calenda-formation.labocleo.org
X-WR-CALNAME:Calenda
X-WR-TIMEZONE:Europe/Paris
CALSCALE:GREGORIAN
X-WR-CALDESC:The calendar for arts, humanities and social sciences
METHOD:PUBLISH
BEGIN:VEVENT
DTSTART;VALUE=DATE:20180508
DTEND;VALUE=DATE:20180509
UID:438946-20180508@calenda.revues.org
SUMMARY:Europe in the 20th century – An Asymmetric Europe
URL:https://calenda-formation.labocleo.org/438946
DESCRIPTION:For its forthcoming participation in the International Congress of Historical Sciences in Poznan\, Poland in 2020\, the International Association for the Study of Contemporary Europe is organising three conferences on the theme : « Europe in the 20th c… @plus_info https://calenda-formation.labocleo.org/438946
LOCATION:Moscow
END:VEVENT
END:VCALENDAR
