BEGIN:VCALENDAR
VERSION:2.0
PRODID:-//https://calenda-formation.labocleo.org
X-WR-CALNAME:Calenda
X-WR-TIMEZONE:Europe/Paris
CALSCALE:GREGORIAN
X-WR-CALDESC:Le calendrier des lettres et sciences humaines et sociales
METHOD:PUBLISH
BEGIN:VEVENT
DTSTART;VALUE=DATE:20180430
DTEND;VALUE=DATE:20180501
UID:439022-20180430@calenda.revues.org
SUMMARY:Summer School in Comparative and Transnational History: Theories\, Methodology and Case Studies
URL:https://calenda-formation.labocleo.org/439022
DESCRIPTION:The Department of History and Civilization at the European University Institute is happy to announce its fourteenth Summer School in Transnational and Comparative History in the historic Villa Salviati\, looking out over the hills of Florence\, Italy. … Más informaciones https://calenda-formation.labocleo.org/439022
LOCATION:Florencia
END:VEVENT
END:VCALENDAR
