BEGIN:VCALENDAR
VERSION:2.0
PRODID:-//https://calenda-formation.labocleo.org
X-WR-CALNAME:Calenda
X-WR-TIMEZONE:Europe/Paris
CALSCALE:GREGORIAN
X-WR-CALDESC:The calendar for arts, humanities and social sciences
METHOD:PUBLISH
BEGIN:VEVENT
DTSTART;VALUE=DATE:20190520
DTEND;VALUE=DATE:20190521
UID:439279-20190520@calenda.revues.org
SUMMARY:Accompaniment at university via teaching innovation within apprenticeships and trades
URL:https://calenda-formation.labocleo.org/439279
DESCRIPTION:La deuxième édition du colloque « Innovation pédagogique\, accompagnement et professionnalisation des étudiants » (IPAPE) aura pour thème : Accompagnement à l'université par l'innovation pédagogique au cœur des apprentissages et des métiers. Il prolon… @plus_info https://calenda-formation.labocleo.org/439279
LOCATION:Houmt Souk
END:VEVENT
END:VCALENDAR
