BEGIN:VCALENDAR
VERSION:2.0
PRODID:-//https://calenda-formation.labocleo.org
X-WR-CALNAME:Calenda
X-WR-TIMEZONE:Europe/Paris
CALSCALE:GREGORIAN
X-WR-CALDESC:Le calendrier des lettres et sciences humaines et sociales
METHOD:PUBLISH
BEGIN:VEVENT
DTSTART;VALUE=DATE:20180518
DTEND;VALUE=DATE:20180519
UID:439360-20180518@calenda.revues.org
SUMMARY:Le bois dans tous ses états : le projet de conservation restauratiion du bâti à la croisée des chemins...
URL:https://calenda-formation.labocleo.org/439360
DESCRIPTION:Les premières constructions monumentales du néolithique tardif en Europe l’attestent déjà : le bois est fondation\, fait structure et constitue charpente ; il incarne très tôt l’étai et\, à ce titre\, s’impose rapidement comme l’élément constitutif du p… @plus_info https://calenda-formation.labocleo.org/439360
LOCATION:Paris
END:VEVENT
END:VCALENDAR
