BEGIN:VCALENDAR
VERSION:2.0
PRODID:-//https://calenda-formation.labocleo.org
X-WR-CALNAME:Calenda
X-WR-TIMEZONE:Europe/Paris
CALSCALE:GREGORIAN
X-WR-CALDESC:Le calendrier des lettres et sciences humaines et sociales
METHOD:PUBLISH
BEGIN:VEVENT
DTSTART;VALUE=DATE:20180615
DTEND;VALUE=DATE:20180616
UID:439447-20180615@calenda.revues.org
SUMMARY:Alimentação\, saúde e ambiente: sustentabilidade e desafios
URL:https://calenda-formation.labocleo.org/439447
DESCRIPTION:Este seminário marca o início da agenda científica do Grupo de Trabalho Transições Tecnológicas: Memórias\, Saberes e Práticas\, constituído no âmbito do Colégio F3.​ A articulação entre alimentação\, saúde e ambiente expressa\, de forma inequívoca\, a ba… @plus_info https://calenda-formation.labocleo.org/439447
LOCATION:Lisbonne
END:VEVENT
END:VCALENDAR
