BEGIN:VCALENDAR
VERSION:2.0
PRODID:-//https://calenda-formation.labocleo.org
X-WR-CALNAME:Calenda
X-WR-TIMEZONE:Europe/Paris
CALSCALE:GREGORIAN
X-WR-CALDESC:The calendar for arts, humanities and social sciences
METHOD:PUBLISH
BEGIN:VEVENT
DTSTART;VALUE=DATE:20180425
DTEND;VALUE=DATE:20180426
UID:439649-20180425@calenda.revues.org
SUMMARY:Uses and misuses of women's causes
URL:https://calenda-formation.labocleo.org/439649
DESCRIPTION:Afin d’interroger et de discuter les usages (et mésusages) des répertoires féministes ainsi que les relations entre les mouvements de femmes et les États dans l’espace méditerranéen\, le réseau de recherche « Reconfigurations » de la Philipps U… @plus_info https://calenda-formation.labocleo.org/439649
LOCATION:Tunis
END:VEVENT
BEGIN:VEVENT
DTSTART;VALUE=DATE:20180426
DTEND;VALUE=DATE:20180427
UID:439649-20180426@calenda.revues.org
SUMMARY:Uses and misuses of women's causes
URL:https://calenda-formation.labocleo.org/439649
DESCRIPTION:Afin d’interroger et de discuter les usages (et mésusages) des répertoires féministes ainsi que les relations entre les mouvements de femmes et les États dans l’espace méditerranéen\, le réseau de recherche « Reconfigurations » de la Philipps U… @plus_info https://calenda-formation.labocleo.org/439649
LOCATION:Tunis
END:VEVENT
BEGIN:VEVENT
DTSTART;VALUE=DATE:20180427
DTEND;VALUE=DATE:20180428
UID:439649-20180427@calenda.revues.org
SUMMARY:Uses and misuses of women's causes
URL:https://calenda-formation.labocleo.org/439649
DESCRIPTION:Afin d’interroger et de discuter les usages (et mésusages) des répertoires féministes ainsi que les relations entre les mouvements de femmes et les États dans l’espace méditerranéen\, le réseau de recherche « Reconfigurations » de la Philipps U… @plus_info https://calenda-formation.labocleo.org/439649
LOCATION:Tunis
END:VEVENT
END:VCALENDAR
