BEGIN:VCALENDAR
VERSION:2.0
PRODID:-//https://calenda-formation.labocleo.org
X-WR-CALNAME:Calenda
X-WR-TIMEZONE:Europe/Paris
CALSCALE:GREGORIAN
X-WR-CALDESC:The calendar for arts, humanities and social sciences
METHOD:PUBLISH
BEGIN:VEVENT
DTSTART;VALUE=DATE:20180516
DTEND;VALUE=DATE:20180517
UID:440996-20180516@calenda.revues.org
SUMMARY:Medicine under deliberation
URL:https://calenda-formation.labocleo.org/440996
DESCRIPTION:Réunions de concertation pluridisciplinaires sur des cas cliniques\, comités d’éthique dans les hôpitaux\, commissions des agences sanitaires\, groupe de travail pour l’élaboration d’une recommandation médicale\, expertises collectives ou réunions de syn… @plus_info https://calenda-formation.labocleo.org/440996
LOCATION:Lyon
END:VEVENT
BEGIN:VEVENT
DTSTART;VALUE=DATE:20180517
DTEND;VALUE=DATE:20180518
UID:440996-20180517@calenda.revues.org
SUMMARY:Medicine under deliberation
URL:https://calenda-formation.labocleo.org/440996
DESCRIPTION:Réunions de concertation pluridisciplinaires sur des cas cliniques\, comités d’éthique dans les hôpitaux\, commissions des agences sanitaires\, groupe de travail pour l’élaboration d’une recommandation médicale\, expertises collectives ou réunions de syn… @plus_info https://calenda-formation.labocleo.org/440996
LOCATION:Lyon
END:VEVENT
END:VCALENDAR
