BEGIN:VCALENDAR
VERSION:2.0
PRODID:-//https://calenda-formation.labocleo.org
X-WR-CALNAME:Calenda
X-WR-TIMEZONE:Europe/Paris
CALSCALE:GREGORIAN
X-WR-CALDESC:The calendar for arts, humanities and social sciences
METHOD:PUBLISH
BEGIN:VEVENT
DTSTART;VALUE=DATE:20180605
DTEND;VALUE=DATE:20180606
UID:441204-20180605@calenda.revues.org
SUMMARY:Can cosmopolitanism save democracy?
URL:https://calenda-formation.labocleo.org/441204
DESCRIPTION:Face à l’inquiétante progression des idéologies identitaristes\, l’affirmation cosmopolite se propose de repenser le rapport du sujet à ses appartenances. La question centrale est la suivante : est-il envisageable de concilier le principe d’univer… @plus_info https://calenda-formation.labocleo.org/441204
LOCATION:Paris
END:VEVENT
BEGIN:VEVENT
DTSTART;VALUE=DATE:20180606
DTEND;VALUE=DATE:20180607
UID:441204-20180606@calenda.revues.org
SUMMARY:Can cosmopolitanism save democracy?
URL:https://calenda-formation.labocleo.org/441204
DESCRIPTION:Face à l’inquiétante progression des idéologies identitaristes\, l’affirmation cosmopolite se propose de repenser le rapport du sujet à ses appartenances. La question centrale est la suivante : est-il envisageable de concilier le principe d’univer… @plus_info https://calenda-formation.labocleo.org/441204
LOCATION:Paris
END:VEVENT
END:VCALENDAR
