BEGIN:VCALENDAR
VERSION:2.0
PRODID:-//https://calenda-formation.labocleo.org
X-WR-CALNAME:Calenda
X-WR-TIMEZONE:Europe/Paris
CALSCALE:GREGORIAN
X-WR-CALDESC:The calendar for arts, humanities and social sciences
METHOD:PUBLISH
BEGIN:VEVENT
DTSTART;VALUE=DATE:20180420
DTEND;VALUE=DATE:20180421
UID:441231-20180420@calenda.revues.org
SUMMARY:Dis/Orienting Identity
URL:https://calenda-formation.labocleo.org/441231
DESCRIPTION:This half-day symposium will examine how visual and material culture is used to manipulate or mediate identity. The event will take a critical look at the effects of mass media on self- perception and consider how marginalized groups—whether non-West… @plus_info https://calenda-formation.labocleo.org/441231
LOCATION:Paris
END:VEVENT
END:VCALENDAR
