BEGIN:VCALENDAR
VERSION:2.0
PRODID:-//https://calenda-formation.labocleo.org
X-WR-CALNAME:Calenda
X-WR-TIMEZONE:Europe/Paris
CALSCALE:GREGORIAN
X-WR-CALDESC:The calendar for arts, humanities and social sciences
METHOD:PUBLISH
BEGIN:VEVENT
DTSTART;VALUE=DATE:20180715
DTEND;VALUE=DATE:20180716
UID:441254-20180715@calenda.revues.org
SUMMARY:Portraits and representations of the former Netherlands (16th-17th centuries)
URL:https://calenda-formation.labocleo.org/441254
DESCRIPTION:À une époque où les dimensions du monde connu s’élargissent\, où les théories de la perspective se répandent\, où\, parallèlement\, la science optique se développe et crée de nouveaux instruments de mesure profitant à la cartographie\, nous proposons d’in… @plus_info https://calenda-formation.labocleo.org/441254
LOCATION:Arras
END:VEVENT
END:VCALENDAR
