BEGIN:VCALENDAR
VERSION:2.0
PRODID:-//https://calenda-formation.labocleo.org
X-WR-CALNAME:Calenda
X-WR-TIMEZONE:Europe/Paris
CALSCALE:GREGORIAN
X-WR-CALDESC:Le calendrier des lettres et sciences humaines et sociales
METHOD:PUBLISH
BEGIN:VEVENT
DTSTART;VALUE=DATE:20180531
DTEND;VALUE=DATE:20180601
UID:441309-20180531@calenda.revues.org
SUMMARY:Réseaux et réseautage en f/Francophonie. Dimensions formelles et informelles 
URL:https://calenda-formation.labocleo.org/441309
DESCRIPTION:En partant de l’idée qu’à travers ses réseaux\, la F/francophonie crée et consolide des solidarités objectives ou subjectives entre ses membres et ses animateurs\, nous souhaitons que les communications puissent identifier des systèmes de réseaux et de… Weitere Informationen https://calenda-formation.labocleo.org/441309
LOCATION:
END:VEVENT
END:VCALENDAR
