BEGIN:VCALENDAR
VERSION:2.0
PRODID:-//https://calenda-formation.labocleo.org
X-WR-CALNAME:Calenda
X-WR-TIMEZONE:Europe/Paris
CALSCALE:GREGORIAN
X-WR-CALDESC:The calendar for arts, humanities and social sciences
METHOD:PUBLISH
BEGIN:VEVENT
DTSTART;VALUE=DATE:20180630
DTEND;VALUE=DATE:20180701
UID:441486-20180630@calenda.revues.org
SUMMARY:Sanctuaries and pilgrimages in Northern France in the Middle Ages to the present day
URL:https://calenda-formation.labocleo.org/441486
DESCRIPTION:Le XXe anniversaire de l’inscription au titre du Patrimoine mondial de l’UNESCO du bien « Chemins de Saint-Jacques de Compostelle en France » offre l’occasion d’approfondir la connaissance scientifique sur les pèlerinages (dont celui à Saint-Jacques … @plus_info https://calenda-formation.labocleo.org/441486
LOCATION:Amiens
END:VEVENT
END:VCALENDAR
