BEGIN:VCALENDAR
VERSION:2.0
PRODID:-//https://calenda-formation.labocleo.org
X-WR-CALNAME:Calenda
X-WR-TIMEZONE:Europe/Paris
CALSCALE:GREGORIAN
X-WR-CALDESC:O calendário de letras e de ciências sociais e humanas
METHOD:PUBLISH
BEGIN:VEVENT
DTSTART;VALUE=DATE:20180615
DTEND;VALUE=DATE:20180616
UID:441790-20180615@calenda.revues.org
SUMMARY:Les pratiques religieuses et internet
URL:https://calenda-formation.labocleo.org/441790
DESCRIPTION:Ce numéro de la revue RESET (Recherches en Sciences Sociales sur Internet) vise à explorer la façon dont internet travaille la religion et inversement\, comment la religion peut faire évoluer les médias numériques. Un moyen d'avancer sur cette questio… @plus_info https://calenda-formation.labocleo.org/441790
LOCATION:
END:VEVENT
END:VCALENDAR
