BEGIN:VCALENDAR
VERSION:2.0
PRODID:-//https://calenda-formation.labocleo.org
X-WR-CALNAME:Calenda
X-WR-TIMEZONE:Europe/Paris
CALSCALE:GREGORIAN
X-WR-CALDESC:The calendar for arts, humanities and social sciences
METHOD:PUBLISH
BEGIN:VEVENT
DTSTART;VALUE=DATE:20180530
DTEND;VALUE=DATE:20180531
UID:442057-20180530@calenda.revues.org
SUMMARY:Open Government and Digital Issues
URL:https://calenda-formation.labocleo.org/442057
DESCRIPTION:Cette troisième édition s’inscrit dans le prolongement des deux premières journées universitaires sur les enjeux des gouvernements ouverts organisée en novembre 2017\, ainsi qu’en décembre 2016 au cours de la semaine pendant laquelle la France a accue… @plus_info https://calenda-formation.labocleo.org/442057
LOCATION:Paris
END:VEVENT
END:VCALENDAR
