BEGIN:VCALENDAR
VERSION:2.0
PRODID:-//https://calenda-formation.labocleo.org
X-WR-CALNAME:Calenda
X-WR-TIMEZONE:Europe/Paris
CALSCALE:GREGORIAN
X-WR-CALDESC:The calendar for arts, humanities and social sciences
METHOD:PUBLISH
BEGIN:VEVENT
DTSTART;VALUE=DATE:20180530
DTEND;VALUE=DATE:20180531
UID:442157-20180530@calenda.revues.org
SUMMARY:Military sociology - the current state of research
URL:https://calenda-formation.labocleo.org/442157
DESCRIPTION:Plus de quinze ans après la dernière manifestation de ce type en France\, l'IRSEM et le CREC Saint-Cyr organise un colloque international cherchant à établir un état des lieux des travaux en sciences sociales portant sur le monde militaire. L'ambition… @plus_info https://calenda-formation.labocleo.org/442157
LOCATION:Paris
END:VEVENT
END:VCALENDAR
