BEGIN:VCALENDAR
VERSION:2.0
PRODID:-//https://calenda-formation.labocleo.org
X-WR-CALNAME:Calenda
X-WR-TIMEZONE:Europe/Paris
CALSCALE:GREGORIAN
X-WR-CALDESC:Le calendrier des lettres et sciences humaines et sociales
METHOD:PUBLISH
BEGIN:VEVENT
DTSTART;VALUE=DATE:20180906
DTEND;VALUE=DATE:20180907
UID:442668-20180906@calenda.revues.org
SUMMARY:Quel(s) écosystème(s) d’affaires pour un entrepreneuriat innovant et durable au Maroc ?
URL:https://calenda-formation.labocleo.org/442668
DESCRIPTION:En prenant appui sur des expériences étrangères ainsi que des expertises de praticiens et chercheurs marocains\, notre colloque se propose de contribuer à la production et la diffusion du savoir sur une thématique centrale\, d’actualité\, et déterminant… Weitere Informationen https://calenda-formation.labocleo.org/442668
LOCATION:Khouribga
END:VEVENT
END:VCALENDAR
