BEGIN:VCALENDAR
VERSION:2.0
PRODID:-//https://calenda-formation.labocleo.org
X-WR-CALNAME:Calenda
X-WR-TIMEZONE:Europe/Paris
CALSCALE:GREGORIAN
X-WR-CALDESC:The calendar for arts, humanities and social sciences
METHOD:PUBLISH
BEGIN:VEVENT
DTSTART;VALUE=DATE:20180529
DTEND;VALUE=DATE:20180530
UID:442786-20180529@calenda.revues.org
SUMMARY:Amateurs and institutions - from Academies to digital platforms
URL:https://calenda-formation.labocleo.org/442786
DESCRIPTION:Cette journée d’étude vise à réunir des chercheur·e·s de différentes disciplines pour réfléchir sur les rapports entre institutions et amateurs d’art\, de patrimoine et de culture\, au sens large. La comparaison entre différents contextes historiques\, … @plus_info https://calenda-formation.labocleo.org/442786
LOCATION:Nanterre
END:VEVENT
END:VCALENDAR
