BEGIN:VCALENDAR
VERSION:2.0
PRODID:-//https://calenda-formation.labocleo.org
X-WR-CALNAME:Calenda
X-WR-TIMEZONE:Europe/Paris
CALSCALE:GREGORIAN
X-WR-CALDESC:The calendar for arts, humanities and social sciences
METHOD:PUBLISH
BEGIN:VEVENT
DTSTART;VALUE=DATE:20180601
DTEND;VALUE=DATE:20180602
UID:443090-20180601@calenda.revues.org
SUMMARY:Health Literacy and Physical Literacy in Library Practice
URL:https://calenda-formation.labocleo.org/443090
DESCRIPTION:This special issue of Open Information Science seeks submissions related to the theme of "Health Literacy and Physical Literacy in Library Practice." We invite case studies focused on services and programs offered in particular libraries\, as well as … @plus_info https://calenda-formation.labocleo.org/443090
LOCATION:
END:VEVENT
END:VCALENDAR
