BEGIN:VCALENDAR
VERSION:2.0
PRODID:-//https://calenda-formation.labocleo.org
X-WR-CALNAME:Calenda
X-WR-TIMEZONE:Europe/Paris
CALSCALE:GREGORIAN
X-WR-CALDESC:Le calendrier des lettres et sciences humaines et sociales
METHOD:PUBLISH
BEGIN:VEVENT
DTSTART;VALUE=DATE:20180603
DTEND;VALUE=DATE:20180604
UID:443140-20180603@calenda.revues.org
SUMMARY:Enjeux de l’acquisition des langues secondes en contextes migratoires
URL:https://calenda-formation.labocleo.org/443140
DESCRIPTION:Les processus de mondialisation qui s’accélèrent en ce début de XXIe siècle\, et les phénomènes de mobilité qui en résultent\, posent de nouveaux défis qui appellent de nouvelles réponses en matière de politique d’accueil et d’intégration / insertion d… @plus_info https://calenda-formation.labocleo.org/443140
LOCATION:Metz
END:VEVENT
END:VCALENDAR
