BEGIN:VCALENDAR
VERSION:2.0
PRODID:-//https://calenda-formation.labocleo.org
X-WR-CALNAME:Calenda
X-WR-TIMEZONE:Europe/Paris
CALSCALE:GREGORIAN
X-WR-CALDESC:Le calendrier des lettres et sciences humaines et sociales
METHOD:PUBLISH
BEGIN:VEVENT
DTSTART;VALUE=DATE:20180618
DTEND;VALUE=DATE:20180619
UID:443312-20180618@calenda.revues.org
SUMMARY:Ateliers de la créativité et de l’innovation
URL:https://calenda-formation.labocleo.org/443312
DESCRIPTION:Officiellement reconnues depuis la loi Économie sociale et solidaire de 2014\, les monnaies locales complémentaires (MLC) fleurissent un peu partout dans la région PACA et en France\, témoignant de la volonté de raccrocher l’économie au réel et de dyna… Weitere Informationen https://calenda-formation.labocleo.org/443312
LOCATION:Aix-en-Provence
END:VEVENT
END:VCALENDAR
