BEGIN:VCALENDAR
VERSION:2.0
PRODID:-//https://calenda-formation.labocleo.org
X-WR-CALNAME:Calenda
X-WR-TIMEZONE:Europe/Paris
CALSCALE:GREGORIAN
X-WR-CALDESC:O calendário de letras e de ciências sociais e humanas
METHOD:PUBLISH
BEGIN:VEVENT
DTSTART;VALUE=DATE:20180529
DTEND;VALUE=DATE:20180530
UID:443499-20180529@calenda.revues.org
SUMMARY:Théâtre et sciences sociales
URL:https://calenda-formation.labocleo.org/443499
DESCRIPTION:Les sciences sociales ont pour ambition d’observer les sociétés et d’analyser leurs dynamiques ; elles disposent pour ce faire d’un éventail de pratiques qu’elles n’ont cessé d’alimenter et de perfectionner non seulement pour observer\, représenter et… @plus_info https://calenda-formation.labocleo.org/443499
LOCATION:Saint-Martin-d'Hères
END:VEVENT
END:VCALENDAR
