BEGIN:VCALENDAR
VERSION:2.0
PRODID:-//https://calenda-formation.labocleo.org
X-WR-CALNAME:Calenda
X-WR-TIMEZONE:Europe/Paris
CALSCALE:GREGORIAN
X-WR-CALDESC:The calendar for arts, humanities and social sciences
METHOD:PUBLISH
BEGIN:VEVENT
DTSTART;VALUE=DATE:20180622
DTEND;VALUE=DATE:20180623
UID:443592-20180622@calenda.revues.org
SUMMARY:History\, languages and textometry
URL:https://calenda-formation.labocleo.org/443592
DESCRIPTION:Du 17 au 19 janvier 2019\, le Pôle informatique de recherche et d'enseignement en histoire (Pireh) – université Paris 1 organisera à la Sorbonne un colloque international consacré aux rapports entre histoire\, langue et textométrie. L'objectif de cet é… @plus_info https://calenda-formation.labocleo.org/443592
LOCATION:
END:VEVENT
END:VCALENDAR
