BEGIN:VCALENDAR
VERSION:2.0
PRODID:-//https://calenda-formation.labocleo.org
X-WR-CALNAME:Calenda
X-WR-TIMEZONE:Europe/Paris
CALSCALE:GREGORIAN
X-WR-CALDESC:The calendar for arts, humanities and social sciences
METHOD:PUBLISH
BEGIN:VEVENT
DTSTART;VALUE=DATE:20180524
DTEND;VALUE=DATE:20180525
UID:443596-20180524@calenda.revues.org
SUMMARY:Personal small ads in the contemporary press\, 18th-20th centuries
URL:https://calenda-formation.labocleo.org/443596
DESCRIPTION:Cette journée veut amener les chercheurs en sciences sociales à travailler sur le matériau spécifique qu’est la petite annonce\, et ce sur un temps relativement long\, celui de la presse\, lorsque les feuilles imprimées prennent une importance quotidien… @plus_info https://calenda-formation.labocleo.org/443596
LOCATION:Paris
END:VEVENT
END:VCALENDAR
